BEGIN:VCALENDAR
VERSION:2.0
METHOD:PUBLISH
BEGIN:VEVENT
UID:WILD_APRICOT_EVENT_3100500_SESSION_1
DTSTART:20190421T030000Z
DTEND:20190421T030000Z
SUMMARY:KB IFMT 2
LOCATION:FYC
DESCRIPTION:https://www.flindersyc.com.au/event-3100500\n\n\n\n
DTSTAMP:20260424T160352Z
END:VEVENT
END:VCALENDAR
