BEGIN:VCALENDAR
VERSION:2.0
METHOD:PUBLISH
BEGIN:VEVENT
UID:WILD_APRICOT_EVENT_3101154_SESSION_1
DTSTART:20181122T060000Z
DTEND:20181122T125900Z
SUMMARY:Private Function Member
LOCATION:clubhouse
DESCRIPTION:https://www.flindersyc.com.au/event-3101154\n\n\n\n
DTSTAMP:20260424T170255Z
END:VEVENT
END:VCALENDAR
