BEGIN:VCALENDAR
VERSION:2.0
METHOD:PUBLISH
BEGIN:VEVENT
UID:WILD_APRICOT_EVENT_3110789_SESSION_1
DTSTART:20181103T220000Z
DTEND:20181104T003000Z
SUMMARY:Sailing Training and Pre Season Practice
LOCATION:FYC
DESCRIPTION:https://www.flindersyc.com.au/event-3110789\n\nBasic Boat Setup and Sailing Session or just a personal practice session\, safety boat will be on the water till 11.30am.  Meet at 9.00am to Rig\, max time on the water 90mins.\n  Please register interest so we know who is coming\, email Rick Barker to reserve a Club pacer or opti\, first in\, best dressed.\n  Please Pass on to anyone you think may be interested\n\n
DTSTAMP:20260424T154843Z
END:VEVENT
END:VCALENDAR
