BEGIN:VCALENDAR
VERSION:2.0
METHOD:PUBLISH
BEGIN:VEVENT
UID:WILD_APRICOT_EVENT_3134880_SESSION_1
DTSTART:20190412T230000Z
DTEND:20190413T135900Z
SUMMARY:Private Function
LOCATION:clubhouse
DESCRIPTION:https://www.flindersyc.com.au/event-3134880\n\n\n\n
DTSTAMP:20260424T162420Z
END:VEVENT
END:VCALENDAR
