BEGIN:VCALENDAR
VERSION:2.0
METHOD:PUBLISH
BEGIN:VEVENT
UID:WILD_APRICOT_EVENT_3144189_SESSION_1
DTSTART:20181201T220000Z
DTEND:20181202T010000Z
SUMMARY:FYC Safety Boat Training & Refresher
LOCATION:FYC
DESCRIPTION:https://www.flindersyc.com.au/event-3144189\n\nTraining & Refresher on Safety Boat Operation\n  Gain confidence in the preparation\, launching\, operation and retieval of the safety boats\, become accredited to operate the Club Ute.\n  Programme is to spend time on the water with an experienced Club member and practice some of the skills involved in ensuring the safety of our sailors.  No previous experience is necessary but a power boat operators licence is essential of course!\n  Please register your interest so we know who is coming\, this is a free event.\n
DTSTAMP:20260424T162545Z
END:VEVENT
END:VCALENDAR
