BEGIN:VCALENDAR
VERSION:2.0
METHOD:PUBLISH
BEGIN:VEVENT
UID:WILD_APRICOT_EVENT_3157312_SESSION_1
DTSTART:20190604T223000Z
DTEND:20190605T030000Z
SUMMARY:Private Meeting Flinders Probus
LOCATION:clubhouse
DESCRIPTION:https://www.flindersyc.com.au/event-3157312\n\n\n\n
DTSTAMP:20260424T171859Z
END:VEVENT
END:VCALENDAR
