BEGIN:VCALENDAR
VERSION:2.0
METHOD:PUBLISH
BEGIN:VEVENT
UID:WILD_APRICOT_EVENT_3157329_SESSION_1
DTSTART:20190105T070000Z
DTEND:20190105T125900Z
SUMMARY:Commodores Cocktail Party
LOCATION:Clubhouse
DESCRIPTION:https://www.flindersyc.com.au/event-3157329\n\nThe tradition of the  'Bubbles Bar' will continue for a sparkling welcome drink and all beer\, wine and soft-drinks\, along with cocktail canapes and 'small bites' will be provided.\n  Come dressed to party in 'the colours of the sea'  from the white tips of the waves\, to the turquoise shallows or deep blue hues\, to further celebrate the completion of the renovation and extension of our clubhouse.\n  This year there will be live music from 6.00pm-10.00pm from The Improvisers and dancing after 10.00pm for the young at heart!  \n  In lieu of a raffle and live auction\, all adult tickets include a $25.00 donation towards the new RIB Training Boat. There will also be a silent auction with all proceeds going towards the RIB and the chance of door prizes on the night for those who book by 21 December.\n  RSVP by 21 December or incur a late fee\, or miss out on attending altogether!\n  2019 Commodore's Cocktail Party Event Flyer.pdf\n\n  \n\n
DTSTAMP:20260424T174231Z
END:VEVENT
END:VCALENDAR
