BEGIN:VCALENDAR
VERSION:2.0
METHOD:PUBLISH
BEGIN:VEVENT
UID:WILD_APRICOT_EVENT_3171071_SESSION_1
DTSTART:20181230T070000Z
DTEND:20181230T093000Z
SUMMARY:Junior Beach party
LOCATION:Clubhouse
DESCRIPTION:https://www.flindersyc.com.au/event-3171071\n\n \n
DTSTAMP:20260424T191202Z
END:VEVENT
END:VCALENDAR
