BEGIN:VCALENDAR
VERSION:2.0
METHOD:PUBLISH
BEGIN:VEVENT
UID:WILD_APRICOT_EVENT_3171072_SESSION_1
DTSTART:20190102T070000Z
DTEND:20190102T093000Z
SUMMARY:Junior Progressive Dinner
LOCATION:Clubhouse
DESCRIPTION:https://www.flindersyc.com.au/event-3171072\n\n \n
DTSTAMP:20260424T174346Z
END:VEVENT
END:VCALENDAR
