BEGIN:VCALENDAR
VERSION:2.0
METHOD:PUBLISH
BEGIN:VEVENT
UID:WILD_APRICOT_EVENT_3171073_SESSION_1
DTSTART:20190110T040000Z
DTEND:20190110T100000Z
SUMMARY:Golf Twilight and Dinner
LOCATION:Flinders Golf Club
DESCRIPTION:https://www.flindersyc.com.au/event-3171073\n\n \n
DTSTAMP:20260424T161933Z
END:VEVENT
END:VCALENDAR
