BEGIN:VCALENDAR
VERSION:2.0
METHOD:PUBLISH
BEGIN:VEVENT
UID:WILD_APRICOT_EVENT_3171074_SESSION_1
DTSTART:20190111T000000Z
DTEND:20190111T040000Z
SUMMARY:FYC Ladies Lunch
LOCATION:Montalto Piazza Cafe - 33 Shoreham Rd Red Hill South\, Red Hill\, Victoria 3937
DESCRIPTION:https://www.flindersyc.com.au/event-3171074\n\n \n  NB: flyer to be updated to Fri 11 Jan 2019 \n  Ladies Lunch commencing 11 am for 12 pm lunch\n  2018 Ladies Lunch Event Flyer.pdf\n\n  \n\n
DTSTAMP:20260424T190835Z
END:VEVENT
END:VCALENDAR
