BEGIN:VCALENDAR
VERSION:2.0
METHOD:PUBLISH
BEGIN:VEVENT
UID:WILD_APRICOT_EVENT_3171075_SESSION_1
DTSTART:20190116T070000Z
DTEND:20190116T100000Z
SUMMARY:Children's Movie Night
LOCATION:Clubhouse
DESCRIPTION:https://www.flindersyc.com.au/event-3171075\n\n \n
DTSTAMP:20260424T154752Z
END:VEVENT
END:VCALENDAR
