BEGIN:VCALENDAR
VERSION:2.0
METHOD:PUBLISH
BEGIN:VEVENT
UID:WILD_APRICOT_EVENT_3171111_SESSION_1
DTSTART:20190117T190000Z
DTEND:20190119T040000Z
SUMMARY:Eric Lucas Fishing Day
LOCATION:Clubhouse
DESCRIPTION:https://www.flindersyc.com.au/event-3171111\n\nNB: The attached flyer will be updated for the January 2019 Fishing Day\n  Eric Lucas fishing invitation 2018.pdf\n  \n\n
DTSTAMP:20260424T154543Z
END:VEVENT
END:VCALENDAR
