BEGIN:VCALENDAR
VERSION:2.0
METHOD:PUBLISH
BEGIN:VEVENT
UID:WILD_APRICOT_EVENT_3171118_SESSION_1
DTSTART:20190126T060000Z
DTEND:20190126T113000Z
SUMMARY:Australia Day Dinner
LOCATION:Clubhouse
DESCRIPTION:https://www.flindersyc.com.au/event-3171118\n\nThe Flinders Yacht Club Australia Day Beach Party is one of the highlights of the 2018/2019 social calendar and not to be missed!\n  All ages are welcome to come along for the fun and games\, including the traditional tug of war contest\, and to enjoy the fabulous fish and chips cooked on the deck by Flinders Hotel chefs.\n  Nibbles and dessert are also included in the ticket price - BYO drinks.\n  Looking forward to seeing members new and old on Saturday 26th January from 5.00pm.\n  Book at:\n  https://www.trybooking.com/BACDM\n  \n\n
DTSTAMP:20260424T162247Z
END:VEVENT
END:VCALENDAR
