BEGIN:VCALENDAR
VERSION:2.0
METHOD:PUBLISH
BEGIN:VEVENT
UID:WILD_APRICOT_EVENT_3171120_SESSION_1
DTSTART:20190309T073000Z
DTEND:20190309T113000Z
SUMMARY:Fiesta at Flinders Dinner
LOCATION:Clubhouse
DESCRIPTION:https://www.flindersyc.com.au/event-3171120\n\n\n\n  NB: The flyer below is yet to be updated for the March 2019 Fiesta.\n  \n\n  \n\n  Book at www.trybookings/book/event?eid=355359&\n\n  2018 Flinders fiesta for FYC members.pdf\n\n
DTSTAMP:20260424T162703Z
END:VEVENT
END:VCALENDAR
