BEGIN:VCALENDAR
VERSION:2.0
METHOD:PUBLISH
BEGIN:VEVENT
UID:WILD_APRICOT_EVENT_3172289_SESSION_1
DTSTART:20190209T073000Z
DTEND:20190209T113000Z
SUMMARY:Family Fun & Trivia Night
LOCATION:Clubhouse
DESCRIPTION:https://www.flindersyc.com.au/event-3172289\n\n\n\n  \n\n
DTSTAMP:20260424T183111Z
END:VEVENT
END:VCALENDAR
