BEGIN:VCALENDAR
VERSION:2.0
METHOD:PUBLISH
BEGIN:VEVENT
UID:WILD_APRICOT_EVENT_3251839_SESSION_1
DTSTART:20190203T223000Z
DTEND:20190204T050000Z
SUMMARY:Embroiderers Guild Meet
LOCATION:clubhouse
DESCRIPTION:https://www.flindersyc.com.au/event-3251839\n\n\n\n
DTSTAMP:20260424T171251Z
END:VEVENT
END:VCALENDAR
