BEGIN:VCALENDAR
VERSION:2.0
METHOD:PUBLISH
BEGIN:VEVENT
UID:WILD_APRICOT_EVENT_3251840_SESSION_1
DTSTART:20190303T223000Z
DTEND:20190304T050000Z
SUMMARY:Embroiderers Guild Meet
LOCATION:clubhouse
DESCRIPTION:https://www.flindersyc.com.au/event-3251840\n\n\n\n
DTSTAMP:20260424T161942Z
END:VEVENT
END:VCALENDAR
