BEGIN:VCALENDAR
VERSION:2.0
METHOD:PUBLISH
BEGIN:VEVENT
UID:WILD_APRICOT_EVENT_3251842_SESSION_1
DTSTART:20190331T223000Z
DTEND:20190401T050000Z
SUMMARY:Embroiderers Guild Meet
LOCATION:clubhouse
DESCRIPTION:https://www.flindersyc.com.au/event-3251842\n\n\n\n
DTSTAMP:20260424T160437Z
END:VEVENT
END:VCALENDAR
