BEGIN:VCALENDAR
VERSION:2.0
METHOD:PUBLISH
BEGIN:VEVENT
UID:WILD_APRICOT_EVENT_3251845_SESSION_1
DTSTART:20190505T233000Z
DTEND:20190506T060000Z
SUMMARY:Embroiderers Guild Meet
LOCATION:clubhouse
DESCRIPTION:https://www.flindersyc.com.au/event-3251845\n\n\n\n
DTSTAMP:20260424T160515Z
END:VEVENT
END:VCALENDAR
