BEGIN:VCALENDAR
VERSION:2.0
METHOD:PUBLISH
BEGIN:VEVENT
UID:WILD_APRICOT_EVENT_3251846_SESSION_1
DTSTART:20190602T233000Z
DTEND:20190603T060000Z
SUMMARY:Embroiderers Guild Meet
LOCATION:clubhouse
DESCRIPTION:https://www.flindersyc.com.au/event-3251846\n\n\n\n
DTSTAMP:20260424T160510Z
END:VEVENT
END:VCALENDAR
