BEGIN:VCALENDAR
VERSION:2.0
METHOD:PUBLISH
BEGIN:VEVENT
UID:WILD_APRICOT_EVENT_3251847_SESSION_1
DTSTART:20190630T233000Z
DTEND:20190701T060000Z
SUMMARY:Embroiderers Guild Meet
LOCATION:clubhouse
DESCRIPTION:https://www.flindersyc.com.au/event-3251847\n\n\n\n
DTSTAMP:20260424T162744Z
END:VEVENT
END:VCALENDAR
