BEGIN:VCALENDAR
VERSION:2.0
METHOD:PUBLISH
BEGIN:VEVENT
UID:WILD_APRICOT_EVENT_3251848_SESSION_1
DTSTART:20190728T233000Z
DTEND:20190729T060000Z
SUMMARY:Embroiderers Guild Meet
LOCATION:clubhouse
DESCRIPTION:https://www.flindersyc.com.au/event-3251848\n\n\n\n
DTSTAMP:20260424T162441Z
END:VEVENT
END:VCALENDAR
