BEGIN:VCALENDAR
VERSION:2.0
METHOD:PUBLISH
BEGIN:VEVENT
UID:WILD_APRICOT_EVENT_3251852_SESSION_1
DTSTART:20190901T233000Z
DTEND:20190902T060000Z
SUMMARY:Embroiderers Guild Meet
LOCATION:clubhouse
DESCRIPTION:https://www.flindersyc.com.au/event-3251852\n\n\n\n
DTSTAMP:20260424T160535Z
END:VEVENT
END:VCALENDAR
