BEGIN:VCALENDAR
VERSION:2.0
METHOD:PUBLISH
BEGIN:VEVENT
UID:WILD_APRICOT_EVENT_3251856_SESSION_1
DTSTART:20191006T223000Z
DTEND:20191007T050000Z
SUMMARY:Embroiderers Guild Meet
LOCATION:clubhouse
DESCRIPTION:https://www.flindersyc.com.au/event-3251856\n\n\n\n
DTSTAMP:20260424T182208Z
END:VEVENT
END:VCALENDAR
