BEGIN:VCALENDAR
VERSION:2.0
METHOD:PUBLISH
BEGIN:VEVENT
UID:WILD_APRICOT_EVENT_3251857_SESSION_1
DTSTART:20191110T223000Z
DTEND:20191111T050000Z
SUMMARY:Embroiderers Guild Meet
LOCATION:clubhouse
DESCRIPTION:https://www.flindersyc.com.au/event-3251857\n\n\n\n
DTSTAMP:20260424T160113Z
END:VEVENT
END:VCALENDAR
