BEGIN:VCALENDAR
VERSION:2.0
METHOD:PUBLISH
BEGIN:VEVENT
UID:WILD_APRICOT_EVENT_3254678_SESSION_1
DTSTART:20191128T220000Z
DTEND:20191129T123000Z
SUMMARY:Private Function Set Up
LOCATION:
DESCRIPTION:https://www.flindersyc.com.au/event-3254678\n\n\n\n
DTSTAMP:20260424T162509Z
END:VEVENT
END:VCALENDAR
