BEGIN:VCALENDAR
VERSION:2.0
METHOD:PUBLISH
BEGIN:VEVENT
UID:WILD_APRICOT_EVENT_3254686_SESSION_1
DTSTART:20191129T220000Z
DTEND:20191130T125900Z
SUMMARY:Private Function
LOCATION:clubhouse
DESCRIPTION:https://www.flindersyc.com.au/event-3254686\n\n\n\n
DTSTAMP:20260424T162410Z
END:VEVENT
END:VCALENDAR
