BEGIN:VCALENDAR
VERSION:2.0
METHOD:PUBLISH
BEGIN:VEVENT
UID:WILD_APRICOT_EVENT_3255040_SESSION_1
DTSTART:20190511T210000Z
DTEND:20190512T020000Z
SUMMARY:Mother's Day Classic
LOCATION:clubhouse
DESCRIPTION:https://www.flindersyc.com.au/event-3255040\n\n\n  Download Flyer: Flinders Mother Day Classic 2019.pdf\n
DTSTAMP:20260424T170923Z
END:VEVENT
END:VCALENDAR
