BEGIN:VCALENDAR
VERSION:2.0
METHOD:PUBLISH
BEGIN:VEVENT
UID:WILD_APRICOT_EVENT_3273194_SESSION_1
DTSTART:20191213T220000Z
DTEND:20191214T125900Z
SUMMARY:Private Function
LOCATION:clubhouse
DESCRIPTION:https://www.flindersyc.com.au/event-3273194\n\n\n\n
DTSTAMP:20260424T171320Z
END:VEVENT
END:VCALENDAR
