BEGIN:VCALENDAR
VERSION:2.0
METHOD:PUBLISH
BEGIN:VEVENT
UID:WILD_APRICOT_EVENT_3274966_SESSION_1
DTSTART:20190221T010000Z
DTEND:20190221T070000Z
SUMMARY:Private Corporate Sailing Function
LOCATION:clubhouse
DESCRIPTION:https://www.flindersyc.com.au/event-3274966\n\n\n\n
DTSTAMP:20260424T154817Z
END:VEVENT
END:VCALENDAR
