BEGIN:VCALENDAR
VERSION:2.0
METHOD:PUBLISH
BEGIN:VEVENT
UID:WILD_APRICOT_EVENT_3334679_SESSION_1
DTSTART:20190428T050000Z
DTEND:20190428T135900Z
SUMMARY:Private Function Member
LOCATION:clubhouse
DESCRIPTION:https://www.flindersyc.com.au/event-3334679\n\n\n\n
DTSTAMP:20260424T173828Z
END:VEVENT
END:VCALENDAR
