BEGIN:VCALENDAR
VERSION:2.0
METHOD:PUBLISH
BEGIN:VEVENT
UID:WILD_APRICOT_EVENT_3339336_SESSION_1
DTSTART:20190420T080000Z
DTEND:20190420T123000Z
SUMMARY:Flinders Yacht Club - Easter Saturday Dinner
LOCATION:Clubhouse
DESCRIPTION:https://www.flindersyc.com.au/event-3339336\n\nCalling all FYC members for the last hurrah of the season!\n  In keeping with a more low-key ‘dinner on the deck’ style\, the Committee would like to welcome members and their guests to an Easter Saturday night get-together.\n  To keep this simple\, please BYO everything as per the Friday night Twilight Dinners. No lasagna competition this year but bring a lasagna if you’d like and join us for a very relaxed end of season chinwag and bonhomie.\n  Please remember to take home all of your bottles and rubbish as there will be no bin service this weekend. \n  No need to RSVP\, just come along\, visitors and guests welcome!\n  \n\n
DTSTAMP:20260424T171626Z
END:VEVENT
END:VCALENDAR
