BEGIN:VCALENDAR
VERSION:2.0
METHOD:PUBLISH
BEGIN:VEVENT
UID:WILD_APRICOT_EVENT_3339341_SESSION_1
DTSTART:20190615T083000Z
DTEND:20190615T120000Z
SUMMARY:2019 Annual Dinner
LOCATION:Flinders Golf Club
DESCRIPTION:https://www.flindersyc.com.au/event-3339341\n\nIt’s that time of year where we salute and pay accolades to all the FYC Stars of Sailing over the 18/19 Season.  Our very own “Oscars”. \n  Always a fun night\, this year will be slightly different as we have prevailed upon the Flinders Golf Club to allow us the use of their dining room to hold this event.  This is due to the impending renovations at FYC.\n  We will have a delicious dinner followed by the presentations.\n  We look forward to seeing you there and sharing the tributes to those that have achieved greatness this season.\n  \n\n  \n\n
DTSTAMP:20260424T183450Z
END:VEVENT
END:VCALENDAR
