BEGIN:VCALENDAR
VERSION:2.0
METHOD:PUBLISH
BEGIN:VEVENT
UID:WILD_APRICOT_EVENT_3339342_SESSION_1
DTSTART:20190616T010000Z
DTEND:20190616T010000Z
SUMMARY:Annual General Meeting
LOCATION:Club house
DESCRIPTION:https://www.flindersyc.com.au/event-3339342\n\n\n\n
DTSTAMP:20260424T171019Z
END:VEVENT
END:VCALENDAR
