BEGIN:VCALENDAR
VERSION:2.0
METHOD:PUBLISH
BEGIN:VEVENT
UID:WILD_APRICOT_EVENT_3421015_SESSION_1
DTSTART:20190601T010000Z
DTEND:20190601T060000Z
SUMMARY:Private Memorial Service
LOCATION:clubhouse
DESCRIPTION:https://www.flindersyc.com.au/event-3421015\n\n\n\n
DTSTAMP:20260424T162621Z
END:VEVENT
END:VCALENDAR
