BEGIN:VCALENDAR
VERSION:2.0
METHOD:PUBLISH
BEGIN:VEVENT
UID:WILD_APRICOT_EVENT_3430309_SESSION_1
DTSTART:20191012T003000Z
DTEND:20191012T060000Z
SUMMARY:Private Function
LOCATION:clubhouse
DESCRIPTION:https://www.flindersyc.com.au/event-3430309\n\n\n\n
DTSTAMP:20260424T190843Z
END:VEVENT
END:VCALENDAR
