BEGIN:VCALENDAR
VERSION:2.0
METHOD:PUBLISH
BEGIN:VEVENT
UID:WILD_APRICOT_EVENT_3435626_SESSION_1
DTSTART:20190607T230000Z
DTEND:20190608T090000Z
SUMMARY:Private Memorial Service
LOCATION:clubhouse
DESCRIPTION:https://www.flindersyc.com.au/event-3435626\n\n\n\n
DTSTAMP:20260424T182308Z
END:VEVENT
END:VCALENDAR
