BEGIN:VCALENDAR
VERSION:2.0
METHOD:PUBLISH
BEGIN:VEVENT
UID:WILD_APRICOT_EVENT_3447719_SESSION_1
DTSTART:20191012T070000Z
DTEND:20191012T123000Z
SUMMARY:Private Set Up 6pm
LOCATION:clubhouse
DESCRIPTION:https://www.flindersyc.com.au/event-3447719\n\n\n\n
DTSTAMP:20260424T162500Z
END:VEVENT
END:VCALENDAR
