BEGIN:VCALENDAR
VERSION:2.0
METHOD:PUBLISH
BEGIN:VEVENT
UID:WILD_APRICOT_EVENT_3447720_SESSION_1
DTSTART:20191012T220000Z
DTEND:20191013T123000Z
SUMMARY:Private Function
LOCATION:clubhouse
DESCRIPTION:https://www.flindersyc.com.au/event-3447720\n\n\n\n
DTSTAMP:20260424T170913Z
END:VEVENT
END:VCALENDAR
