BEGIN:VCALENDAR
VERSION:2.0
METHOD:PUBLISH
BEGIN:VEVENT
UID:WILD_APRICOT_EVENT_3449249_SESSION_1
DTSTART:20190913T230000Z
DTEND:20190914T133000Z
SUMMARY:Private Function Flinders Pre School
LOCATION:clubhouse
DESCRIPTION:https://www.flindersyc.com.au/event-3449249\n\n\n\n
DTSTAMP:20260424T155910Z
END:VEVENT
END:VCALENDAR
