BEGIN:VCALENDAR
VERSION:2.0
METHOD:PUBLISH
BEGIN:VEVENT
UID:WILD_APRICOT_EVENT_3457439_SESSION_1
DTSTART:20190725T070000Z
DTEND:20190725T130000Z
SUMMARY:Flinders Art Group Play
LOCATION:clubhouse
DESCRIPTION:https://www.flindersyc.com.au/event-3457439\n\n\n\n
DTSTAMP:20260424T191102Z
END:VEVENT
END:VCALENDAR
