BEGIN:VCALENDAR
VERSION:2.0
METHOD:PUBLISH
BEGIN:VEVENT
UID:WILD_APRICOT_EVENT_3457441_SESSION_1
DTSTART:20190727T070000Z
DTEND:20190727T130000Z
SUMMARY:Flinders Art Group Play
LOCATION:clubhouse
DESCRIPTION:https://www.flindersyc.com.au/event-3457441\n\n\n\n
DTSTAMP:20260424T162643Z
END:VEVENT
END:VCALENDAR
