BEGIN:VCALENDAR
VERSION:2.0
METHOD:PUBLISH
BEGIN:VEVENT
UID:WILD_APRICOT_EVENT_3458354_SESSION_1
DTSTART:20190719T230000Z
DTEND:20190720T133000Z
SUMMARY:Private Event
LOCATION:clubhouse
DESCRIPTION:https://www.flindersyc.com.au/event-3458354\n\n\n\n
DTSTAMP:20260424T171408Z
END:VEVENT
END:VCALENDAR
