BEGIN:VCALENDAR
VERSION:2.0
METHOD:PUBLISH
BEGIN:VEVENT
UID:WILD_APRICOT_EVENT_3461132_SESSION_1
DTSTART:20191209T050000Z
DTEND:20191209T100000Z
SUMMARY:Private Meeting Lions Club
LOCATION:clubhouse
DESCRIPTION:https://www.flindersyc.com.au/event-3461132\n\n\n\n
DTSTAMP:20260424T183035Z
END:VEVENT
END:VCALENDAR
