BEGIN:VCALENDAR
VERSION:2.0
METHOD:PUBLISH
BEGIN:VEVENT
UID:WILD_APRICOT_EVENT_3557859_SESSION_1
DTSTART:20191103T033000Z
DTEND:20191103T033000Z
SUMMARY:Opening Day Agg Champ 1 & Spring 1
LOCATION:FYC
DESCRIPTION:https://www.flindersyc.com.au/event-3557859\n\n\n\n  \n\n  \n\n
DTSTAMP:20260424T171734Z
END:VEVENT
END:VCALENDAR
