BEGIN:VCALENDAR
VERSION:2.0
METHOD:PUBLISH
BEGIN:VEVENT
UID:WILD_APRICOT_EVENT_3557868_SESSION_1
DTSTART:20191110T023000Z
DTEND:20191110T023000Z
SUMMARY:OTB Racing - Spring 2 & 3
LOCATION:FYC
DESCRIPTION:https://www.flindersyc.com.au/event-3557868\n\n\n\n
DTSTAMP:20260424T173937Z
END:VEVENT
END:VCALENDAR
