BEGIN:VCALENDAR
VERSION:2.0
METHOD:PUBLISH
BEGIN:VEVENT
UID:WILD_APRICOT_EVENT_3557869_SESSION_1
DTSTART:20191117T023000Z
DTEND:20191117T023000Z
SUMMARY:OTB Racing - Spring 4 & 5
LOCATION:FYC
DESCRIPTION:https://www.flindersyc.com.au/event-3557869\n\n\n\n
DTSTAMP:20260424T162828Z
END:VEVENT
END:VCALENDAR
