BEGIN:VCALENDAR
VERSION:2.0
METHOD:PUBLISH
BEGIN:VEVENT
UID:WILD_APRICOT_EVENT_3557871_SESSION_1
DTSTART:20191201T023000Z
DTEND:20191201T023000Z
SUMMARY:OTB Racing - Spring 6 & 7
LOCATION:FYC
DESCRIPTION:https://www.flindersyc.com.au/event-3557871\n\n\n\n
DTSTAMP:20260424T171108Z
END:VEVENT
END:VCALENDAR
