BEGIN:VCALENDAR
VERSION:2.0
METHOD:PUBLISH
BEGIN:VEVENT
UID:WILD_APRICOT_EVENT_3557872_SESSION_1
DTSTART:20191208T023000Z
DTEND:20191208T023000Z
SUMMARY:OTB Racing Spring 8 & 9
LOCATION:FYC
DESCRIPTION:https://www.flindersyc.com.au/event-3557872\n\n\n\n
DTSTAMP:20260424T191210Z
END:VEVENT
END:VCALENDAR
